BEGIN:VCALENDAR
VERSION:2.0
PRODID:Events Booking
BEGIN:VEVENT
UID:69e76f4f9a38b
SUMMARY:Online PMI Germany Chapter Mitglieder Orientierung 24-02
DESCRIPTION:Bei diesem Event haben alle Mitglieder des PMI Germany Chapters
  die Möglichkeit\, Fragen zu Themen zu stellen\, die sie im Zusammenhang 
 mit der Community des PMI Germany Chapters interessieren.&nbsp\;Moderiert 
 wird der offene Dialog am frühen Abend von Jörg Glunde\, Vizepräsident 
 Mitglieder des PMI Germany Chapter e.V.\, ggf. gemeinsam mit den Heads of 
 Member Care Michael Krekeler\, Jutta Zilian\, Sladjana Tufegdzic\, Bernd T
 öpfer\, Eckhard Hauenherm\, Heiko Stoldt und Knut Scheuer.
DTSTART:20240215T180000Z
DTEND:20240215T190000Z
DTSTAMP:20220519T174641Z
ORGANIZER;CN=PMI Germany Chapter e.V.:MAILTO:website@pmi-gc.de
END:VEVENT
END:VCALENDAR