BEGIN:VCALENDAR
VERSION:2.0
PRODID:Events Booking
BEGIN:VEVENT
UID:69e7b1e0065b8
SUMMARY:Afterwork Company Visit bei der Projektron GmbH
DESCRIPTION:Gemeinsam mit unserem Chapter-Sponsor
  lädt die Local Group 
 Berlin zu einem interessanten Vortragsabend ein.
 Bevor es richtig los ge
 ht haben Sie um 16 Uhr die Möglichkeit\, beim Firmenrundgang einen Einbli
 ck in die Unternehmensbereiche der Projektron GmbH zu erhalten.
 Erfahren
  Sie danach wie man Personas im Marketing als auch in der Produktentwicklu
 ng und Systemeinführung nutzen kann. Sie ermöglichen ein besseres Verst
 ändnis für den Kunden und sind innovatives Tool zur Kommunikation. In de
 r Anwendung der BPMN mit Projektron BCS werden Prozesse direkt über eine 
 grafische Oberfläche in der Software angelegt und bearbeitet und Prozessi
 nhalte per Drag &amp\; Drop zusammengestellt. Es wird gezeigt\, wie BPMN-D
 iagramme angelegt und spezifische Parameter gesetzt werden.
LOCATION:Charlottenstraße 68\, Berlin\, 10117\, Deutschland
DTSTART:20231012T150000Z
DTEND:20231012T173000Z
DTSTAMP:20230529T084032Z
ORGANIZER;CN=PMI Germany Chapter e.V.:MAILTO:website@pmi-gc.de
GEO:52.510121;13.391681
X-APPLE-STRUCTURED-LOCATION;VALUE=URI;X-ADDRESS=Charlottenstraße 68\, Berl
 in\, 10117\, Deutschland;X-APPLE-RADIUS=72;X-TITLE=Projektron GmbH:52.5101
 21;13.391681
END:VEVENT
END:VCALENDAR