BEGIN:VCALENDAR
VERSION:2.0
PRODID:Events Booking
BEGIN:VEVENT
UID:69e74be88b315
SUMMARY:Help Me\, OKR Kenobi
DESCRIPTION:Beginnend mit einem Impulsvortrag über OKRs\, bieten wir Einbl
 icke in deren praktische Anwendung bei CRATOS und führen einen interaktiv
 en Workshop durch\, in dem die Teilnehmenden lernen\, OKRs zu formulieren 
 und messbar zu machen. Ziel ist es\, die Effizienz und Zielorientierung im
  beruflichen Alltag zu steigern.
LOCATION:Riesaer Straße 5\, Dresden\, 01129 Sachsen
DTSTART:20240306T170000Z
DTEND:20240306T190000Z
DTSTAMP:20240217T080321Z
ORGANIZER;CN=PMI Germany Chapter e.V.:MAILTO:website@pmi-gc.de
GEO:51.082565;13.72563
X-APPLE-STRUCTURED-LOCATION;VALUE=URI;X-ADDRESS=Riesaer Straße 5\, Dresden
 \, 01129 Sachsen;X-APPLE-RADIUS=72;X-TITLE=Deutsche Telekom MMS GmbH:51.08
 2565;13.72563
END:VEVENT
END:VCALENDAR