BEGIN:VCALENDAR
VERSION:2.0
PRODID:Events Booking
BEGIN:VEVENT
UID:69e7da62e464d
SUMMARY:Online event LG DA: Lean PPM that does not cost a fortune
DESCRIPTION:Over 400 organizations around the world work with Meisterplan t
 o repeatedly answer questions that only appear simple at first sight: Whic
 h initiatives should we be driving? When? Resources available? Dependencie
 s considered?Join the discussion with Lean PPM inventor and Meisterplan Ma
 naging Director Christoph Hirnle.Caution: he will actually ask your opinio
 n!https://meisterplan.com/lean-project-portfolio-management/
 For 20 year
 s\, Dr. Christoph Hirnle has worked at the intersection of strategy\, proj
 ects and products.&nbsp\;
 Questions: LGDarmstadt@pmi-gc.de&nbsp\;
DTSTART:20230202T170000Z
DTEND:20230202T183000Z
DTSTAMP:20221122T151021Z
ORGANIZER;CN=PMI Germany Chapter e.V.:MAILTO:website@pmi-gc.de
END:VEVENT
END:VCALENDAR