BEGIN:VCALENDAR
VERSION:2.0
PRODID:Events Booking
BEGIN:VEVENT
UID:69e878d67e21d
SUMMARY:Online event LG DA: Program & Portfolio Mgmt - the road ahead for y
 our career - Dharam Singh
DESCRIPTION:Dharam Singh will explain how you can take the next steps in yo
 ur career as project manager and PMP. He has the experience of more than a
  decade helping others take these steps.&nbsp\;Takeaways:- Guiding busines
 ses to a more sustainable future- Business Agility and People Agility- The
  Big Picture - Roles &amp\; Responsibilities- Adaptive Mindset - “Change
  Agents”&nbsp\;&nbsp\;- Turning Ambition into Action - “Future Roadmap
 ”- Certifications a valuable commodity
 &nbsp\;&nbsp\;NOTE :The online 
 meeting will be recorded as we want to provide it via our chapter channels
  to members who could not attend but have a strong interest in the topic. 
 Our purpose is to support the professional development of our members. The
  legal basis will be your consent. Therefore\, we will ask for consent at 
 the beginning of the recording for documentation purposes. If you do not w
 ish your personal data to be recorded\, saved\, and distributed as describ
 ed above\, you should not attend the meeting.&nbsp\;Questions? Write an em
 ail to lgdarmstadt@pmi-gc.de&nbsp\;
 &nbsp\;
DTSTART:20230112T170000Z
DTEND:20230112T190000Z
DTSTAMP:20221009T070910Z
ORGANIZER;CN=PMI Germany Chapter e.V.:MAILTO:website@pmi-gc.de
END:VEVENT
END:VCALENDAR