BEGIN:VCALENDAR
VERSION:2.0
PRODID:Events Booking
BEGIN:VEVENT
UID:69e7d8bf6ae1c
SUMMARY:Online Event LG Darmstadt: PM for Social Good: why\, how and what
DESCRIPTION:PMI Fellow Water Ginevri from Italy will talk about&nbsp\;
 PM
  for Social Good: why\, how and what
 Walter is a pro bono PM\, and serve
 d as a PMI volunteer for many years\, establishing social good projects an
 d serving on the PMIEF Board.&nbsp\;He thinks&nbsp\;Project Managers shoul
 d consider ISR (Individual Social Responsibility) as the fourth dimension 
 of the PMI Talent Triangle.
 Contact LGDarmstadt@pmi-gc.de
DTSTART:20230829T160000Z
DTEND:20230829T173000Z
DTSTAMP:20230718T115316Z
ORGANIZER;CN=PMI Germany Chapter e.V.:MAILTO:website@pmi-gc.de
END:VEVENT
END:VCALENDAR