BEGIN:VCALENDAR
VERSION:2.0
PRODID:Events Booking
BEGIN:VEVENT
UID:69e89e5baa15e
SUMMARY:Online-Mitgliederversammlung 2022
DESCRIPTION:Liebe Mitglieder des PMI Germany Chapter e.V.\,in Kürze werden
  Sie eine Einladung zu unserer ordentlichen Mitgliederversammlung (MV) erh
 alten\, die am 10. November 2022 von 19 bis 21 Uhr online stattfinden wird
 .
 In dieser Einladung werden Sie dann einen Registrierungslink finden\, 
 über den Sie sich zur Online-MV anmelden müssen\, wenn Sie teilnehmen m
 öchten. Ohne eine solche Anmeldung wird die Teilnahme an der Mitgliederve
 rsammlung und damit die Teilnahme an den Abstimmungen nicht möglich sein.
DTSTART:20221110T180000Z
DTEND:20221110T200000Z
DTSTAMP:20220903T091410Z
ORGANIZER;CN=PMI Germany Chapter e.V.:MAILTO:website@pmi-gc.de
END:VEVENT
END:VCALENDAR