BEGIN:VCALENDAR
VERSION:2.0
PRODID:Events Booking
BEGIN:VEVENT
UID:69e85debdb4e0
SUMMARY:Online PMI Germany Chapter Member Orientierung
DESCRIPTION:Bei diesem Event haben alle Mitglieder des PMI Germany Chapters
  die Möglichkeit\, Fragen zu Themen zu stellen\, die sie im Zusammenhang 
 mit der Community des PMI Germany Chapters interessieren.&nbsp\;Moderiert 
 wird der offene Dialog am frühen Abend von Jörg Glunde\, Vizepräsident 
 Mitglieder des PMI Germany Chapter e.V.\, ggf. gemeinsam mit den Heads of 
 Member Care Sladjana Tufegdzic\, Bernd Töpfer\, Eckhard Hauenherm\, Heiko
  Stoldt und Knut Scheuer.
DTSTART:20230213T180000Z
DTEND:20230213T190000Z
DTSTAMP:20220519T174641Z
ORGANIZER;CN=PMI Germany Chapter e.V.:MAILTO:website@pmi-gc.de
END:VEVENT
END:VCALENDAR