BEGIN:VCALENDAR
VERSION:2.0
PRODID:Events Booking
BEGIN:VEVENT
UID:69e88c1668601
SUMMARY:Online PMI Germany Chaptermitglieder Orientierung
DESCRIPTION:Bei diesem Event haben alle Mitglieder des PMI Germany Chapters
  die Möglichkeit\, Fragen zu Themen zu stellen\, die sie im Zusammenhang 
 mit der Community des PMI Germany Chapters interessieren.&nbsp\;Moderiert 
 wird der offene Dialog am frühen Abend von Jörg Glunde\, Vizepräsident 
 Mitglieder des PMI Germany Chapter e.V.\, gemeinsam mit den Heads of Membe
 r Care Sladjana\, Bernd\, Eckhard\, Heiko und Knut - und ab und zu mal auc
 h mit Maya aus der Region South
DTSTART:20221219T180000Z
DTEND:20221219T190000Z
DTSTAMP:20220519T174641Z
ORGANIZER;CN=PMI Germany Chapter e.V.:MAILTO:website@pmi-gc.de
END:VEVENT
END:VCALENDAR