BEGIN:VCALENDAR
VERSION:2.0
PRODID:Events Booking
BEGIN:VEVENT
UID:69e8c904f09f2
SUMMARY:Projektmanagement im digitalen Wandel
DESCRIPTION:Die Local Group Thuringia lädt ein zum Chaptermeeting mit dem 
 Thema: Projektmanagement im digitalen Wandel• Was ist Digitalisierung?
 • Digitalisierung im Projektmanagement - was ändert sich?• Herausford
 erungen an ein Projektmanagement remote• Auswirkungen der Digitalisierun
 g auf Projektmanagement Kompetenzen
LOCATION:Gustav-Weißkopf-Straße 3-7\, Erfurt\, 99092 Thüringen\, Deutsch
 land
DTSTART:20220922T160000Z
DTEND:20220922T180000Z
DTSTAMP:20220911T131528Z
ORGANIZER;CN=PMI Germany Chapter e.V.:MAILTO:website@pmi-gc.de
GEO:50.972306;10.961459
X-APPLE-STRUCTURED-LOCATION;VALUE=URI;X-ADDRESS=Gustav-Weißkopf-Straße 3-
 7\, Erfurt\, 99092 Thüringen\, Deutschland;X-APPLE-RADIUS=72;X-TITLE=Bür
 opark Airfurt:50.972306;10.961459
END:VEVENT
END:VCALENDAR