BEGIN:VCALENDAR
VERSION:2.0
PRODID:Events Booking
BEGIN:VEVENT
UID:69e81851e74e9
SUMMARY:PM Welt 2023 – Jetzt erst recht!
DESCRIPTION:Fünf ausverkaufte Konferenzen in Folge\, begeisterte Teilnehme
 nde\, Referenten und Aussteller – Erleben Sie am 4. Mai 2023 einen inspi
 rierenden Tag in München mit 12 Vorträgen + 2 Workshops + 2 Keynotes + 4
  Methoden! Und NEU: Im OKR-Track berichten etablierte Unternehmen hautnah 
 von ihren Erfahrungen mit dem Einsatz des Management-Modells OKR.Erfahren 
 Sie von Expertinnen und Experten\, welche Tools\, Methoden und Skills gefo
 rdert sind\, um mutig und sicher den Herausforderungen der Zukunft entgege
 nzutreten.Entdecken Sie die PM Welt 2023Informationen:&nbsp\;https://www.p
 mwelt.com/?utm_source=newsletter&amp\;utm_medium=sondernewsletter&amp\;utm
 _campaign=20221124
 Anmeldung ausschließlich über:&nbsp\;https://www.pm
 welt.com/event/pm-welt-2023-1/register
 Dort finden Sie auch die Teilnahm
 epreise dieser Veranstaltung.
LOCATION:Rosenkavalierplatz 13\, München\, 81925 Bayern\, Deutschland
DTSTART:20230504T060000Z
DTEND:20230504T190000Z
DTSTAMP:20230403T112254Z
ORGANIZER;CN=PMI Germany Chapter e.V.:MAILTO:website@pmi-gc.de
GEO:48.15109;11.619058
X-APPLE-STRUCTURED-LOCATION;VALUE=URI;X-ADDRESS=Rosenkavalierplatz 13\, Mü
 nchen\, 81925 Bayern\, Deutschland;X-APPLE-RADIUS=72;X-TITLE=smartvillage 
 München Bogenhausen:48.15109;11.619058
END:VEVENT
END:VCALENDAR