BEGIN:VCALENDAR
VERSION:2.0
PRODID:Events Booking
BEGIN:VEVENT
UID:69e858bf9a82f
SUMMARY:PM4TheWorld Conference 2024
DESCRIPTION:Diese Konferenz wird in Englischer Sprache abgehalten werden!

  Project Management for a Resilient World
 Nehmen Sie an PM4TheWorld 2024
  teil\, einer 24-stündigen internationalen Online-KonferenzNehmen Sie an 
 bahnbrechenden Präsentationen teil\, bei denen weltbekannte Experten zusa
 mmenkommen\, um innovative Lösungen und Projektmanagementstrategien vorzu
 stellen\, die die Lücke zwischen Katastrophe und Wiederaufbau schließen.
 Hauptthemen:• Strategisches Projektmanagement für eine effektive Katast
 rophenbewältigung• Innovative Lösungen zur Stärkung der Widerstandsf
 ähigkeit gefährdeter Gemeinschaften• Technologie und Innovation bei de
 r Katastrophenhilfe• Adaptive Projektmanagementpraktiken in dynamischen 
 Umgebungen• Maximierung der Wirkung humanitärer Projekte mit minimalem 
 Aufwand
DTSTART:20241010T100000Z
DTEND:20241011T130000Z
DTSTAMP:20240603T190500Z
ORGANIZER;CN=PMI Germany Chapter e.V.:MAILTO:website@pmi-gc.de
END:VEVENT
END:VCALENDAR