BEGIN:VCALENDAR
VERSION:2.0
PRODID:Events Booking
BEGIN:VEVENT
UID:69e795eac85bb
SUMMARY:Enhancing Project Success with Kanban Project\, Program\, and Portf
 olio Management
DESCRIPTION:DIREKT VON DER AUTORIN: MIT KPPM DEN PROJEKTERFOLG STEIGERN
 I
 m heutigen schnelllebigen und sich ständig verändernden Geschäftsumfeld
  stehen Projektmanager ständig vor der Herausforderung\, Projekte erfolgr
 eich durchzuführen und sich gleichzeitig an Veränderungen und Anforderun
 gen anzupassen. Kanban Projekt-\, Programm- und Portfoliomanagement (KPPM)
  gewinnt als Lösung für diese Erfordernisse zunehmend an Bedeutung. Was 
 KPPM besonders attraktiv macht\, ist\, dass es kein Ersatz für traditione
 lle PM-Methoden ist\, sondern diese ergänzt und verbessert.Das PMI German
 y Chapter freut sich\, dass es uns gelungen ist\, keine geringere als die 
 Autorin der KPPM-Methode zu gewinnen\, um uns einen kurzen Überblick zu g
 eben und anschließend Fragen zu beantworten. Mathias Tölken von Xuviate\
 , selbst Kanban- und KPPM-Experte und Mitglied im PMI Germany Chapter\, wi
 rd das Gespräch moderieren.
 Die Veranstaltung findet in englischer Spra
 che statt.
 Fragen gerne an: martin.bertram@pmi-gc.de&nbsp\;und&nbsp\;mat
 hias@xuviate.com
DTSTART:20231102T170000Z
DTEND:20231102T183000Z
DTSTAMP:20231006T132306Z
ORGANIZER;CN=PMI Germany Chapter e.V.:MAILTO:website@pmi-gc.de
END:VEVENT
END:VCALENDAR