BEGIN:VCALENDAR
VERSION:2.0
PRODID:Events Booking
BEGIN:VEVENT
UID:69e7ab50e73e9
SUMMARY:PMI® Global Summit Series Europe 2024
DESCRIPTION:Join us in Berlin\, Germany for the first PMI® Global Summit S
 eries in the region.
 PMI Global Summit Series brings the power\, program
 s\, and passion of PMI® Global Summit\, our largest\, in-person signature
  event\, directly to your region.
 Join our international community in Be
 rlin from 10-11 April 2024 and experience the magic of our flagship event 
 first-hand. Learn to build a stronger future for yourself\, your work\, an
 d your world.
 Registration:&nbsp\;https://pmiglobalsummiteu.gcs-web.com/
 register
LOCATION:Alexanderstraße 11\, Berlin\, 10178\, Deutschland
DTSTART:20240410T060000Z
DTEND:20240411T160000Z
DTSTAMP:20240208T073202Z
ORGANIZER;CN=PMI Germany Chapter e.V.:MAILTO:website@pmi-gc.de
GEO:52.52068;13.416451
X-APPLE-STRUCTURED-LOCATION;VALUE=URI;X-ADDRESS=Alexanderstraße 11\, Berli
 n\, 10178\, Deutschland;X-APPLE-RADIUS=72;X-TITLE=BCC:52.52068;13.416451
END:VEVENT
END:VCALENDAR