BEGIN:VCALENDAR
VERSION:2.0
PRODID:Events Booking
BEGIN:VEVENT
UID:69e799f8a10f8
SUMMARY:„Manage the System\, Lead the People!“ – oder wie man die Pro
 jektorganisation produktorientiert darstellt
DESCRIPTION:Liebe Projektmanagement-Interessierte in und um Hamburg\,
 im 
 November sind wir mit diesem Event bei der diconium GmbH vor Ort in Hambur
 g eingeladen.&nbsp\;
 Wer möchte teilnehmen und ein innovatives Modell k
 ennenlernen\, nebenbei den herrlichen Blick über die Elbe genießen und d
 en Abend entspannt und mit PM-Gleichgesinnten vernetzt ausklingen lassen?
 
 „Manage the System\, Lead the People!“ – oder wie man die Projekto
 rganisation produktorientiert darstellt
 Alle Projektmanagement-Interessi
 erten sind herzlich willkommen!
LOCATION:Große Elbstraße 61\, Hamburg\, 22767\, Deutschland
DTSTART:20231109T173000Z
DTEND:20231109T193000Z
DTSTAMP:20220707T194210Z
ORGANIZER;CN=PMI Germany Chapter e.V.:MAILTO:website@pmi-gc.de
GEO:53.544227;9.943042
X-APPLE-STRUCTURED-LOCATION;VALUE=URI;X-ADDRESS=Große Elbstraße 61\, Hamb
 urg\, 22767\, Deutschland;X-APPLE-RADIUS=72;X-TITLE=Hamburg-Diconium:53.54
 4227;9.943042
END:VEVENT
END:VCALENDAR