BEGIN:VCALENDAR
VERSION:2.0
PRODID:Events Booking
BEGIN:VEVENT
UID:69e85857c7408
SUMMARY:Virtuelle Open Space Veranstaltung (LG Hamburg)
DESCRIPTION:Liebe Projektmanagement Freunde\,
 &nbsp\;wir möchten euch zu
  einem weiteren virtuellen \"Open Space\" einladen.
 &nbsp\;\"...Open Spa
 ce schafft einen stabilen methodischen Rahmen\, in dem viele Menschen selb
 storganisiert und selbstverantwortlich ihre Anliegen gemeinschaftlich bear
 beiten können....\" (Wikipedia).
 Und genau das soll das Ziel sein an di
 esem Abend: Themen\, die ihr mitbringt\, in kleineren Gruppen zu diskutier
 en. Das kann ein Problem sein\, aber auch eine Diskussion oder ein Wissens
 austausch zu einem Thema. 
LOCATION:virtuell
DTSTART:20241017T163000Z
DTEND:20241017T190000Z
DTSTAMP:20220707T194210Z
ORGANIZER;CN=PMI Germany Chapter e.V.:MAILTO:website@pmi-gc.de
GEO:53.56513;10.007167
X-APPLE-STRUCTURED-LOCATION;VALUE=URI;X-ADDRESS=virtuell;X-APPLE-RADIUS=72;
 X-TITLE=Online\, Local Group Hamburg:53.56513;10.007167
END:VEVENT
END:VCALENDAR