BEGIN:VCALENDAR
VERSION:2.0
PRODID:Events Booking
BEGIN:VEVENT
UID:69e7c1dccdd76
SUMMARY:North Event 2023 : How to motivate home office workers and build po
 werful virtual project teams! 
DESCRIPTION:&gt\;&gt\; Melde dich an für das 4. PMIGC North Event!
 Für 
 diese Veranstaltung konnten wir den internationalen Keynote-Speaker Peter 
 Ivanov mit einer Keynote zum Thema \"How to motivate home office workers a
 nd build powerful virtual project teams!\" gewinnen. Anschließsend erwart
 et euch eine Diskussion zum Thema oder die Chance für einen persönlichen
  Austausch in gemütlicher Atmosphäre mit anderen Teilnehmern zu euren Th
 emen.
 Wir freuen uns sehr auf den Austausch mit Euch!
DTSTART:20230912T163000Z
DTEND:20230912T183000Z
DTSTAMP:20220707T194210Z
ORGANIZER;CN=PMI Germany Chapter e.V.:MAILTO:website@pmi-gc.de
END:VEVENT
END:VCALENDAR