BEGIN:VCALENDAR
VERSION:2.0
PRODID:Events Booking
BEGIN:VEVENT
UID:69e89de825b66
SUMMARY:Projektportfolio-Management: Umsetzung und Strategie miteinander ve
 rknüpfen - Vorgehen und Beispiel eines Tools
DESCRIPTION:Wilhelm Tomczak von der Alevion Unternehmensberatung wird am 09
 .11.2022 über den Thinking Portfolio® Service sprechen\, der es Unterneh
 men ermöglicht\, das Portfolio von Projekten\, Applikationen\, Services\,
  Risiken und Ressourcen auf datenschutzsichere Weise durchzuführen. Die b
 ranchenunabhängige Lösung unterstützt\, so das Unternehmen Thinking Por
 tfolio auf ihrer Website\, das Management und die Entscheidungsfindung auf
  strategischer Ebene.
DTSTART:20221109T170000Z
DTEND:20221109T190000Z
DTSTAMP:20221004T062800Z
ORGANIZER;CN=PMI Germany Chapter e.V.:MAILTO:website@pmi-gc.de
END:VEVENT
END:VCALENDAR