BEGIN:VCALENDAR
VERSION:2.0
PRODID:Events Booking
BEGIN:VEVENT
UID:69e7823c2a070
SUMMARY:Lebendige Präsentationen halten
DESCRIPTION:Die Local Group Berlin / Brandenburg lädt Sie ein zu einer Rei
 se mit dem Rampenpfau (Dr. Thomas A. Coucoulis)\, eindrucksvoller und nach
 haltiger Präsentationen zu halten und allen Stakeholder mit rhetorischen 
 Mitteln das Ziel des Projektes nahezu bringen.
 Dr. Thomas A. Coucoulis e
 rklärt in einem einstündigen Impulsvortrag wie durch wirkungsvolle Präs
 entationen jeder versteht\, was Sie vermitteln wollen und jeder die Motiva
 tion erfährt mit Ihnen zusammenarbeiten zu wollen.
DTSTART:20231207T180000Z
DTEND:20231207T190000Z
DTSTAMP:20231004T141801Z
ORGANIZER;CN=PMI Germany Chapter e.V.:MAILTO:website@pmi-gc.de
END:VEVENT
END:VCALENDAR