BEGIN:VCALENDAR
VERSION:2.0
PRODID:Events Booking
BEGIN:VEVENT
UID:69e79adac6eb7
SUMMARY:How PM can benefit from AI and a strong link to Innovation Manageme
 nt?
DESCRIPTION:PMI Germany Chapter e.V. - Region South is back with 2 top-clas
 s speakers from Kaercher and Zoi in English exclusive at Zoi headquarters 
 in Stuttgart – Bad Cannstatt.
 &nbsp\;
 Date/Time: Monday\, 20 Novembe
 r 2023\, 18:00 – 21:00Location: Zoi TechCon GmbH\, Door 19\, Quellenstra
 ße 7\, 70376 Stuttgart\, GermanyCost: Free of charge\, 3 PDUs
 &nbsp\;
LOCATION:Stuttgart\, 70173 Baden-Württemberg\, Deutschland
DTSTART:20231120T170000Z
DTEND:20231120T200000Z
DTSTAMP:20230826T104808Z
ORGANIZER;CN=PMI Germany Chapter e.V.:MAILTO:website@pmi-gc.de
GEO:48.778472;9.179745
X-APPLE-STRUCTURED-LOCATION;VALUE=URI;X-ADDRESS=Stuttgart\, 70173 Baden-Wü
 rttemberg\, Deutschland;X-APPLE-RADIUS=72;X-TITLE=Stuttgart (Platzhalter):
 48.778472;9.179745
END:VEVENT
END:VCALENDAR