BEGIN:VCALENDAR
VERSION:2.0
PRODID:Events Booking
BEGIN:VEVENT
UID:69e7ebb365fa0
SUMMARY:PMI Chapter Xchange: Project Manager as E(I)ntrepreneur
DESCRIPTION:PMI Chapter Xchange Event
 Project Manager as E(I)ntrepreneur!
 
 \"Entrepreneurship is about turning what excites you in life into capit
 al so that you can do more of it and move forward with it.”— Richard B
 ranson\, founder of the Virgin GroupIsn't that what project managers do - 
 make ideas a reality?Project managers\, especially those working in large 
 organizations\, drive change - they are intrapreneurs. We only need to sum
 mon our curiosity and strong drive to make ideas a reality.&nbsp\;Why is a
 n entrepreneurial mindset important for our initiatives' success?How can w
 e cultivate such a mindset?How can we unleash our teams' entrepreneurial p
 otential to boost innovation?Join project leaders and managers from across
  the globe for a#pmichapterXchangecollaborative event of 26-way collaborat
 ion between the PMI Chapters of\; Mumbai\, Netherlands\, South Africa\, Sr
 i Lanka\, Phoenix\, New Zealand\, Zimbabwe\, Indonesia\, Gujarat\, Lima Pe
 ru\, Southern Alberta\, Sao Paulo\, Kenya\, Ghana\, Greece\, Puget Sound\,
  Poland\, Alaska\, United Arab Emirates\, Bangladesh\, Nigeria\, Cameroon\
 , Germany\, Luxembourg\, Turkiye and Madrid Spain while we explore Project
  Manager as an E(I)ntre(a)preneur.&nbsp\;Our supporting chapters are&nbsp\
 ;#PMIJapan. Register to be part of this event onDate: Jul 21\, 2023Time: 1
 6:00 – 18:00 Hrs CESTRegister belowhttps://pmisouthasia.webex.com/webapp
 ng/sites/pmisouthasia/meeting/register/846ee5086a414db4a1083cd07e26cfec?ti
 cket=4832534b000000067483d3145b28fcbb3d739297d77a076c2a41cbe76e1f1f8bf516f
 e2d6dc21944&amp\;timestamp=1689688833631&amp\;RGID=r180820bfe01f8bffcf8875
 a14a9789df
DTSTART:20230721T140000Z
DTEND:20230721T160000Z
DTSTAMP:20230716T165002Z
ORGANIZER;CN=PMI Germany Chapter e.V.:MAILTO:website@pmi-gc.de
END:VEVENT
END:VCALENDAR