BEGIN:VCALENDAR
VERSION:2.0
PRODID:Events Booking
BEGIN:VEVENT
UID:69e8f1d10ec9b
SUMMARY:Projektmanagement - immer schon agil (Panel Discussion)
DESCRIPTION:&nbsp\;
 Die These von Patric Eid: Es gibt NUR \"agiles\" Proj
 ektmanagement. Die Unterscheidung klassisch vs. agil ist hausgemachter Mum
 pitz.
 Agil ist nicht neu. Agilität steckt in uns allen. Agilität ist e
 igentlich gesunder Menschenverstand: Die richtigen Dinge zur richtigen Zei
 t tun\, egal ob Wasserfall\, Scrum oder Design Thinking. Wir müssen dazu 
 übergehen\, den Menschen in den Mittelpunkt unseres Handelns zu stellen\,
  transparent vorgehen\, die Stakeholder einbinden\, Vertrauen in Mitabeite
 nden\, Kunden und Lieferanten haben. Und wir sollten nicht dogmatisch an e
 iner Vorgehensweise festhalten\, sondern bei Bedarf ändern.
 Wie seht ih
 r das? Wir wollen zuerst in dieser Runde und dann gemeinsam mit Euch disku
 tieren.
 &gt\;&gt\; Seid dabei und diskutiert mit uns &lt\;&lt\;
DTSTART:20220705T163000Z
DTEND:20220705T180000Z
DTSTAMP:20220529T172934Z
ORGANIZER;CN=PMI Germany Chapter e.V.:MAILTO:website@pmi-gc.de
END:VEVENT
END:VCALENDAR