BEGIN:VCALENDAR
VERSION:2.0
PRODID:Events Booking
BEGIN:VEVENT
UID:69e8c90441b55
SUMMARY:Magic Miro on Mars - eine Teamsimulation (Udo Wiegärtner)
DESCRIPTION:Das Projekt droht schon wieder an der Deadline zu scheitern. Ni
 emand spricht miteinander\, jeder scheint eigene Ziele zu verfolgen\, kein
 er hilft\, den stockenden Prozess aus dem Dreck zu ziehen - obwohl doch al
 les erst vor ein paar Minuten besprochen war. Die Ressourcen sind auch sch
 on wieder an der völlig falschen Stelle. Man würde seine Kolleg*innen am
  liebsten auf den Mars schießen.
 Udo Wiegärtner hat aus dem Brettspiel
  “Magic Maze on Mars” eine Simulation über Projektplanung\, T-Shaped 
 Teams und Kommunikation unter Stress gemacht und das Spiel dafür in Miro 
 remotefähig gemacht. Gruppen von bis zu 5 Personen versuchen\, kooperativ
 \, unter ziemlichem Zeitdruck und mit eingeschränkter Kommunikation eine 
 Marsstation zu bauen\, bevor den “Kunden” buchstäblich die Luft ausge
 ht.
 Insgesamt wird der Abend ca. zwei Stunden dauern. Schon jetzt ist ve
 rsprochen: Es wird ganz viele Parallelen zum Projekt-Alltag geben - und je
 de Menge Spaß.
DTSTART:20220922T150000Z
DTEND:20220922T170000Z
DTSTAMP:20220613T130117Z
ORGANIZER;CN=PMI Germany Chapter e.V.:MAILTO:website@pmi-gc.de
END:VEVENT
END:VCALENDAR