BEGIN:VCALENDAR
VERSION:2.0
PRODID:Events Booking
BEGIN:VEVENT
UID:69e8726f638b1
SUMMARY:Bring your Own Problem (BYOP) - gemeinsam Eure Probleme lösen
DESCRIPTION:An diesem Abend wollen wir gemeinsam über Probleme aus Eurem P
 rojektalltag sprechen.
 
 Euer Projekt ist festgefahren?
 Ihr habt ein 
 Problem im Projekt\, bei dem Ihr Unterstützung haben wollt?
 Ihr wollt w
 issen\, was Ihr beim nächsten Mal besser machen könnt?
 Ihr habt Fragen
 ?
 
 Dann bringt Euer Problem mit und diskutiert es mit unsere Experten1
 Wir werden in Breakout Sessions die Themen besprechen und Lösungen finden
 .
 Ihr wollt nicht\, dass Euer Kunde bekannt wird? Dann diskutiert es als
  fiktives Problem.
DTSTART:20230117T173000Z
DTEND:20230117T190000Z
DTSTAMP:20220613T131002Z
ORGANIZER;CN=PMI Germany Chapter e.V.:MAILTO:website@pmi-gc.de
END:VEVENT
END:VCALENDAR