BEGIN:VCALENDAR
VERSION:2.0
PRODID:Events Booking
BEGIN:VEVENT
UID:69e873d625668
SUMMARY:7 Zutaten damit Ihre Präsentation eine gute Figur abgibt (Andre Fu
 chs)
DESCRIPTION:Sie wissen\, mit wem Sie sprechen\, was Sie sagen und was Sie d
 amit erreichen wollen? Gut\, dann kümmern wir uns jetzt um die Form. Ist 
 die Form schlecht\, schwächt sie den Inhalt\, macht die Zuhörer unaufmer
 ksam und verfehlt Ihre Ziele. Eine gut gestaltete Präsentation macht Ihre
  Aussagen klar\, konzentriert und spannend. Lernen und üben Sie die 7 Sch
 ritte zu einer guten Präsentation.
DTSTART:20230207T173000Z
DTEND:20230207T190000Z
DTSTAMP:20220613T131002Z
ORGANIZER;CN=PMI Germany Chapter e.V.:MAILTO:website@pmi-gc.de
END:VEVENT
END:VCALENDAR