BEGIN:VCALENDAR
VERSION:2.0
PRODID:Events Booking
BEGIN:VEVENT
UID:69e8482647667
SUMMARY:Präsenztermin: Integrative Entscheidungsprozesse - Diskussionsrund
 e
DESCRIPTION:Wir treffen uns seit langer Zeit wieder einmal vor Ort in Hanno
 ver!
 Wie treffen wir im Projekt Entschdeidungen? Brauchen wir Konsens im
  Team? Nutzen wir Konsent?
 Sie kennen das: Es muss eine Entscheidung\, z
 .B. über eine Änderung in der Arbeitsweise\, herbeigeführt werden. Nun 
 werden alle Stimmen/Meinungen gehört und man versucht eine Zustimmung all
 er Beteiligten zu erreichen. Dies ist ein langwieriger Prozess. Gelingt di
 es nicht\, scheitert diese Änderung oftmals\, oder muss ein Kompromiss ge
 funden werden.
 &gt\;&gt\; Diskutieren Sie mit uns vor Ort in Hannover! (
 IT-P\, Seligmannallee 4-6)
LOCATION:Seligmannallee\, Hannover\, 30173 Niedersachsen\, Deutschland
DTSTART:20230314T173000Z
DTEND:20230314T190000Z
DTSTAMP:20220613T131002Z
ORGANIZER;CN=PMI Germany Chapter e.V.:MAILTO:website@pmi-gc.de
GEO:52.369691;9.775303
X-APPLE-STRUCTURED-LOCATION;VALUE=URI;X-ADDRESS=Seligmannallee\, Hannover\,
  30173 Niedersachsen\, Deutschland;X-APPLE-RADIUS=72;X-TITLE=Hannover\, Se
 ligmannallee 4-6\, IT-P GmbH:52.369691;9.775303
END:VEVENT
END:VCALENDAR