BEGIN:VCALENDAR
VERSION:2.0
PRODID:Events Booking
BEGIN:VEVENT
UID:69e7ec292f910
SUMMARY:Vergiss SMART - her mit den OKRs (Tobias Lienhard)
DESCRIPTION:Brauchen wir SMART (spezifisch\, messbar\, attraktiv\, realisti
 sch\, terminiert) wirklich?
 Wo kommen die Projektziele her? Vom Kunde od
 er Auftraggeber. Sind seine Ziele attraktiv bzw. ambitioniert? Who cares? 
 Er will es!
 Sind sie realistisch? Mach es realisierbar! Als Projektleitu
 ng ist es Deine Aufgabe aufzuzeigen\, was es für die Umsetzung braucht. O
 der?Terminiert? Wieviele Projekte haben ein definiertes Enddatum? Genau: A
 lle! Wenn es nicht von vornherein feststeht\, erarbeitet ihr euch eine Sch
 ätzung. Und warum? Weil die meisten von uns ohne Deadline nicht zu arbeit
 en anfangen.Bleibt noch „spezifisch“ und „messbar“. OK\, durchaus 
 sinnvoll.Tatsächlich arbeitet Tobias viel lieber mit: OKRs / User-Stories
  oder Zielbildern. Für das Gesamtziel\, als auch für Meilensteine. AUCH 
 in klassischen Projekten ?
 &gt\;&gt\; Wie seht Ihr das? Seid dabei und d
 iskutiert mit uns!
DTSTART:20230704T163000Z
DTEND:20230704T180000Z
DTSTAMP:20220613T131002Z
ORGANIZER;CN=PMI Germany Chapter e.V.:MAILTO:website@pmi-gc.de
END:VEVENT
END:VCALENDAR