BEGIN:VCALENDAR
VERSION:2.0
PRODID:Events Booking
BEGIN:VEVENT
UID:69e7c2020dac2
SUMMARY:Wie werden wir den PM los (und der PM macht mit)?
DESCRIPTION:
 
 2001 von 17 Visionären postuliert\, hat das agile Manife
 st mittlerweile einen großen Bekanntheitsgrad erlangt. Für einige der Ve
 rfasser waren PMs das größte Hindernis. Für den Projekterfolg müssten 
 sie entfernt werden.
 
 Frei nach dem Roman „Das Mordbüro“ (englisc
 h: The Assassination Bureau\, Ltd) von Jack London erhalten wir einen „M
 ordauftrag“ an uns selbst.
 Unsere Auftraggeber: Agilisten
 In der Ses
 sion wollen wir gemeinsam erarbeiten\, warum der Wunsch entstehen kann den
  PM loszuwerden.
 
 Unter welchen Bedingungen kann dieser „Mord“ erf
 olgreich sein?
 Und wie bekommt man die PMs dazu\, an der eigenen Elimini
 erung mitzuarbeiten?
 
 
 Hört sich interessant an? Dann sei dabei!
DTSTART:20230905T163000Z
DTEND:20230905T180000Z
DTSTAMP:20220613T131002Z
ORGANIZER;CN=PMI Germany Chapter e.V.:MAILTO:website@pmi-gc.de
END:VEVENT
END:VCALENDAR