BEGIN:VCALENDAR
VERSION:2.0
PRODID:Events Booking
BEGIN:VEVENT
UID:69e7c33fa0122
SUMMARY:Geschäftserfolg durch den kompetenten Einsatz der KI-ChatBots
DESCRIPTION:Andre Fuchs gibt einen guten Überblick darüber\, wie Chat-Bot
 s erfolgreich im Business verwendet werden können. Themen\, die er dabei 
 beleuchtet:
 
 Beurteilung der Tauglichkeit von ChatBots
 Konsequenzen 
 der Disruption durch ChatBost für Berufsgruppen
 Gewinnbringender Einsat
 z von KI-ChatBots
 Vertragsgestaltung bei Einsatz von KI
 Kompetenzaufba
 u der Mitarbeiter
 
 Nach einer abschließenden Zusammenfassung steht An
 dre für Fragen zur Verfügung.
 &gt\;&gt\; Möchtest Du mehr über den E
 insatz von KI-Chatsbots erfahren? Dann sei dabei!
DTSTART:20240409T163000Z
DTEND:20240409T180000Z
DTSTAMP:20220613T131305Z
ORGANIZER;CN=PMI Germany Chapter e.V.:MAILTO:website@pmi-gc.de
END:VEVENT
END:VCALENDAR