BEGIN:VCALENDAR
VERSION:2.0
PRODID:Events Booking
BEGIN:VEVENT
UID:69e7ec28ddbb2
SUMMARY:Projektmanagement am Beispiel Bierherstellung mit Führung
DESCRIPTION:Die Local Group Berlin/Brandenburg freut sich auf einen spannen
 den Company Day mit Ihnen im TapDog Berlin.4 Zutaten ist alles\, was man z
 um Bier brauen benötigt. Der Unterschied am Geschmack liegt darin\, was m
 it diesen 4 Zutaten getan wird\, um ein besonderes Bier herzustellen.An di
 esem Abend erforschen wir die Manufaktur und Brauereikunst und es wird ein
  Einblick in die projektorientierte Bierherstellung gewährt…auch das Er
 gebnis wird verkostet.
LOCATION:Im Marienpark 23\, Berlin\, 12107\, Deutschland
DTSTART:20230712T160000Z
DTEND:20230712T180000Z
DTSTAMP:20230529T082141Z
ORGANIZER;CN=PMI Germany Chapter e.V.:MAILTO:website@pmi-gc.de
GEO:52.438037;13.368003
X-APPLE-STRUCTURED-LOCATION;VALUE=URI;X-ADDRESS=Im Marienpark 23\, Berlin\,
  12107\, Deutschland;X-APPLE-RADIUS=72;X-TITLE=BrewDog DogTap Berlin:52.43
 8037;13.368003
END:VEVENT
END:VCALENDAR