BEGIN:VCALENDAR
VERSION:2.0
PRODID:Events Booking
BEGIN:VEVENT
UID:69e8f1d00f24e
SUMMARY:REGENSBURG - STAMMTISCH - Juli 2022
DESCRIPTION:Präsenz Stammtisch PMI Germany Chapter Local Group RegensburgD
 iesmal wollen wir uns dem Thema Nachhaltigkeit im Projektmanagement widmen
 \, das auch Thema unseres PMI Magazins ist:https://www.pmi-gc.de/component
 /acymailing/url/urlid-3305/mailid-352?subid=123Wir wollen das in der Runde
  diskutieren\; darum darf jeder zur Vorbereitung gerne im Chaptermagazin s
 chmökern\, was aber keine Voraussetzung ist.
LOCATION:Rote-Löwen-Straße 10\, Regensburg\, 93047 Bayern\, Deutschland
DTSTART:20220706T170000Z
DTEND:20220706T190000Z
DTSTAMP:20220629T064105Z
ORGANIZER;CN=PMI Germany Chapter e.V.:MAILTO:website@pmi-gc.de
GEO:49.020728;12.08901
X-APPLE-STRUCTURED-LOCATION;VALUE=URI;X-ADDRESS=Rote-Löwen-Straße 10\, Re
 gensburg\, 93047 Bayern\, Deutschland;X-APPLE-RADIUS=72;X-TITLE=CASA RIOS 
 Regensburg:49.020728;12.08901
END:VEVENT
END:VCALENDAR