BEGIN:VCALENDAR
VERSION:2.0
PRODID:Events Booking
BEGIN:VEVENT
UID:69e89b33c175a
SUMMARY:Online event LGDA: Scrum or Kanban - which is better 
DESCRIPTION:Presentation by Julia Stiegelmayer and Malte Foegen\, wibas.
 
 Julia and Malte will dispute what is better - Scrum or Kanban - and enligh
 ten us about the criteria for finding out when to use which.
 Their compa
 ny&nbsp\;https://www.wibas.com/en/&nbsp\;is located in Darmstadt.
 &nbsp\
 ;
 https://www.linkedin.com/in/maltefoegen/https://www.linkedin.com/in/ju
 lia-stiegelmayer/Questions? Write an email to lgdarmstadt@pmi-gc.de&nbsp\;
DTSTART:20221109T180000Z
DTEND:20221109T193000Z
DTSTAMP:20220919T142351Z
ORGANIZER;CN=PMI Germany Chapter e.V.:MAILTO:website@pmi-gc.de
END:VEVENT
END:VCALENDAR