BEGIN:VCALENDAR
VERSION:2.0
PRODID:Events Booking
BEGIN:VEVENT
UID:69e8dd59a9a69
SUMMARY:Working out Loud (WOL) für ein besseres Projektmanagement
DESCRIPTION:Working out Loud (WOL) für ein besseres Projektmanagement
 WO
 L wird als Werkzeug verstanden\, um aus einem Silo-Denken herauszukommen u
 nd auch funktionsübergreifend Beziehungen einer Zusammenarbeit aufzubauen
  und Wissen zu teilen\, aber auch sein Mindset zu erweitern. Vor allem in 
 einer agilen Zusammenarbeit wird WOL organisationsweit eingesetzt\, da Wis
 sen bewusst geteilt wird\, konstruktives Feedback erwünscht ist und die A
 rbeit mit den jeweiligen Zwischenergebnissen sichtbar gemacht wird. 
LOCATION:Besselstraße\, Berlin\, 10969\, Deutschland
DTSTART:20220823T170000Z
DTEND:20220823T190000Z
DTSTAMP:20220703T120910Z
ORGANIZER;CN=PMI Germany Chapter e.V.:MAILTO:website@pmi-gc.de
GEO:52.504775;13.393342
X-APPLE-STRUCTURED-LOCATION;VALUE=URI;X-ADDRESS=Besselstraße\, Berlin\, 10
 969\, Deutschland;X-APPLE-RADIUS=72;X-TITLE=Forum Factory:52.504775;13.393
 342
END:VEVENT
END:VCALENDAR