BEGIN:VCALENDAR
VERSION:2.0
PRODID:Events Booking
BEGIN:VEVENT
UID:69e8030c8442e
SUMMARY:Extra Volunteer Event PMI Germany Chapter: Insights from my China v
 isit
DESCRIPTION:Wir möchten Dir danksagen für Deine großartige ehrenamtliche
  Arbeit\, die Du für das Chapter geleistet hast bzw. nach wie vor leisten
  wirst\, und wir möchten Dir Orientierung in unserer Community geben. Dah
 er laden wir Dich hiermit herzlich ein zu einem speziellen
 Deutschlandwe
 iten Volunteer Event am Donnerstag\, 22.06.2023\, 17 bis 18:30 Uhr
 &nbsp
 \;
DTSTART:20230622T150000Z
DTEND:20230622T163000Z
DTSTAMP:20221020T095714Z
ORGANIZER;CN=PMI Germany Chapter e.V.:MAILTO:website@pmi-gc.de
END:VEVENT
END:VCALENDAR