BEGIN:VCALENDAR
VERSION:2.0
PRODID:Events Booking
BEGIN:VEVENT
UID:69eb1ff1000d5
SUMMARY:English BookClub May 2026 
DESCRIPTION:Die Veranstaltung findet in Englischer Sprache statt!
 Das Buc
 h des MonatsBusiness Acumen for Project Managers: Alles\, was Sie wissen m
 üssen\, um als Projekt- oder Programmmanager erfolgreich zu sein.&nbsp\;v
 on Steven HainesModeratorin Emma Simon\, PMP – Technische Projekt- und P
 rogrammmanagerin\, Women in Projects Network
 In der Mai-Ausgabe des Nexu
 s of Learning Book Club beschäftigen wir uns mit „Business Acumen for P
 roject Managers” von Steven Haines – einem praktischen Leitfaden\, um 
 zu verstehen\, wie Organisationen Entscheidungen treffen\, welche Zahlen w
 ichtig sind und wie man die Projektumsetzung mit dem Geschäftswert verkn
 üpft.
 Agenda:18:30 – 19:00 Uhr MEZ Networking &amp\; Eröffnungsrede1
 9:00 – 20:00 Uhr MEZ Buchbesprechung\, Diskussion
 PDUs:Sie erhalten 1\
 ,5 PDUs für Ihre PMP-Zertifizierung (Business Acumen).Für das Lesen des 
 Buches können zusätzliche PDUs eingereicht werden.
 Bitte richten Sie I
 hre Fragen an martin.bertram@pmi-gc.de
 LinkedIn-Community:Women in Proje
 cts Network: https://www.linkedin.com/groups/9060376/Buchclub: https://www
 .linkedin.com/groups/10045952/
DTSTART:20260521T163000Z
DTEND:20260521T180000Z
DTSTAMP:20260113T175255Z
ORGANIZER;CN=PMI Germany Chapter e.V.:MAILTO:website@pmi-gc.de
END:VEVENT
BEGIN:VEVENT
UID:69eb1ff1000fd
SUMMARY:Online@lunch: Ressourcenmanagement – Warum es so oft scheitert 
 – und wie das Chaos endlich ein Ende hat
DESCRIPTION:Die LG Berlin des PMI Germany Chapters lädt ein zum Online-Eve
 nt unseres Sponsors Blue-Ant zur Lunchtime:
 Ressourcenmanagement – War
 um es&nbsp\;so oft&nbsp\;scheitert&nbsp\;– und&nbsp\;wiedas Chaos endlic
 h&nbsp\;ein Ende hat.
 Wir freuen uns auf zahlreiche Teilnahme.
DTSTART:20260610T090000Z
DTEND:20260610T100000Z
DTSTAMP:20260412T091708Z
ORGANIZER;CN=PMI Germany Chapter e.V.:MAILTO:website@pmi-gc.de
END:VEVENT
BEGIN:VEVENT
UID:69eb1ff10010e
SUMMARY:WiP-Webinar: Thrive\, Don’t Burn Out: Building Resilient Project 
 Teams in a High-Change World 
DESCRIPTION:Diese Veranstaltung findet in Englischer Sprache statt!
 Webin
 ar-Agenda17:30 – 18:00 Uhr Begrüßung und Networking – Eine informell
 e Gelegenheit\, um Kontakte zu knüpfen\, Erfahrungen auszutauschen und si
 ch vor der Hauptveranstaltung einzufinden.18:00 – 19:00 Uhr Vortrag Liz 
 Hector – Liz Hector Projekt-Skills-Mentorin\, Bloggerin\, Rednerin und M
 entorinZusammenfassung des VortragsDas Projektumfeld wird immer schneller\
 , unterliegt ständigen Veränderungen\, wird immer komplexer und stellt i
 mmer höhere Anforderungen an Projektfachleute. Für viele Frauen\, die in
  Projekten arbeiten\, kann dieser Druck still und leise zu Erschöpfung\, 
 vermindertem Engagement und Burnout führen.In dieser interaktiven Sitzung
  untersucht Liz Hector\, wie Projektfachleute nicht nur zurechtkommen\, so
 ndern erfolgreich sein können. Auf der Grundlage von emotionaler Intellig
 enz\, praktischer Projekterfahrung und Mentoring-Erkenntnissen wird Liz He
 ctor vermitteln\, wie man sowohl auf individueller als auch auf Teamebene 
 Resilienz aufbauen kann.Bitte richten Sie Ihre Fragen an: Martin.Bertram@p
 mi-gc.de&nbsp\;
DTSTART:20260618T163000Z
DTEND:20260618T180000Z
DTSTAMP:20260113T180543Z
ORGANIZER;CN=PMI Germany Chapter e.V.:MAILTO:website@pmi-gc.de
END:VEVENT
BEGIN:VEVENT
UID:69eb1ff10011b
SUMMARY:English BookClub August 2026 - save the date
DESCRIPTION:Die Veranstaltung findet in Englischer Sprache statt!
 English
  Book Club August 2026
DTSTART:20260827T163000Z
DTEND:20260827T180000Z
DTSTAMP:20260113T175804Z
ORGANIZER;CN=PMI Germany Chapter e.V.:MAILTO:website@pmi-gc.de
END:VEVENT
BEGIN:VEVENT
UID:69eb1ff100127
SUMMARY:Women in Projects Webinar September 2026 - Navigating Change: AI an
 d Automation
DESCRIPTION:Diese Veranstaltung findet in Englischer Sprache statt!
 Moder
 atorin: Richa Agarwal – Leiterin für KI/ML-Transformation | Projektmana
 gerin | Spezialistin für KI-Dienstleistungen | PMI-SME | Women in Project
 s NetworkBeschreibung der VeranstaltungKünstliche Intelligenz und Automat
 isierung sind keine experimentellen Technologien mehr\, sondern strategisc
 he Treiber für organisatorische Veränderungen. Für Projektfachleute bri
 ngt dieser Wandel sowohl Chancen als auch Komplexität mit sich.In diesem 
 PMI-Webinar mit dem Titel „Navigating Change: AI &amp\; Automation” (V
 eränderungen meistern: KI und Automatisierung) untersuchen wir\, wie die 
 KI-gesteuerte Transformation Liefermodelle\, Stakeholder-Erwartungen\, Gov
 ernance-Strukturen und Risikorahmenbedingungen neu gestaltet. Der Schwerpu
 nkt liegt dabei nicht nur auf Tools\, sondern auch auf der effektiven Steu
 erung von Veränderungen in Umgebungen\, in denen Automatisierung und inte
 lligente Systeme in Geschäftsabläufe eingebettet sind.Dieses Webinar ric
 htet sich an Projektmanager\, Programmleiter\, PMO-Fachleute und Transform
 ationsspezialisten\, die ihre Führungsqualitäten in einer zunehmend KI-g
 esteuerten Welt stärken möchten.Nehmen Sie an einer zukunftsorientierten
  Diskussion darüber teil\, wie Sie mit Zuversicht führen können\, währ
 end KI und Automatisierung die Zukunft des Projektmanagements neu definier
 en.Bei Fragen wenden Sie sich bitte an: Martin.Bertram@pmi-gc.de&nbsp\;
DTSTART:20260917T163000Z
DTEND:20260917T180000Z
DTSTAMP:20260113T181243Z
ORGANIZER;CN=PMI Germany Chapter e.V.:MAILTO:website@pmi-gc.de
END:VEVENT
BEGIN:VEVENT
UID:69eb1ff100133
SUMMARY:English BookClub Oktober 2026 - Agentic Artificial Intelligence
DESCRIPTION:Diese Veranstaltung findet in Englischer Sprache statt!
 Buch 
 des Monats: „Agentic Artificial Intelligence“ von Pascal BornetModerat
 orin: Richa Agarwal – Leiterin für KI/ML-Transformation | Projektmanage
 rin | Spezialistin für KI-Dienstleistungen | PMI-SME | Women in Projects 
 NetworkBeschreibung der VeranstaltungIn dieser Ausgabe des Nexus of Learni
 ng Book Club nutzen wir „Agentic Artificial Intelligence” von Pascal B
 ornet als Ausgangspunkt\, um eine viel größere Frage zu untersuchen: Wie
  sollten Projektleiter vorgehen\, wenn KI-Systeme nicht mehr nur Werkzeuge
 \, sondern autonome Mitarbeiter sind?Warum dieses Buch für diese Veransta
 ltung?Agentische KI stellt die nächste Phase der digitalen Transformation
  dar. Viele Unternehmen experimentieren bereits mit generativer KI\, aber 
 nur sehr wenige sind strukturell auf Systeme vorbereitet\, die denken\, pl
 anen\, Arbeitsabläufe auslösen und halbautonom arbeiten können.&nbsp\;B
 ei Fragen wenden Sie sich bitte an: Martin.Bertram@pmi-gc.de&nbsp\;
DTSTART:20261015T163000Z
DTEND:20261015T180000Z
DTSTAMP:20260113T180130Z
ORGANIZER;CN=PMI Germany Chapter e.V.:MAILTO:website@pmi-gc.de
END:VEVENT
BEGIN:VEVENT
UID:69eb1ff10013f
SUMMARY:Women in Projects Webinar November 2026 - save the date
DESCRIPTION:Diese Veranstaltung findet in Englischer Sprache statt!
 Women
  in Projects Webinar November 2026
DTSTART:20261119T173000Z
DTEND:20261119T190000Z
DTSTAMP:20260113T181634Z
ORGANIZER;CN=PMI Germany Chapter e.V.:MAILTO:website@pmi-gc.de
END:VEVENT
END:VCALENDAR