BEGIN:VCALENDAR
VERSION:2.0
PRODID:Events Booking
BEGIN:VEVENT
UID:69e8b42d252d2
SUMMARY:Stammtisch Augsburg Oktober 2022
DESCRIPTION:PMI StammtischDieser Stammtisch soll einen Austausch und Diskus
 sion unter Projektleitern ermöglichen.
 Thema: Wie bringt man im Projekt
 verlauf die \"PS auf die Strasse\"?
 Zweisprachiges / Bilingual Event
 M
 eeting-Format:
 Event-Tag: Donnerstag\, 13.10.2022 
 Event-Zeit: 18:00-2
 0:00 Uhr
 Event-Code: C421-A-22-10-13
 PDU-Code: wird den Teilnehmern im
  Anschluss mitgeteilt
 Kontakt: sonja.behrmann@pmi-gc.de
 &nbsp\;
LOCATION:Max-von-Laue-Str. 16\, Augsburg
DTSTART:20221013T160000Z
DTSTAMP:20220530T162122Z
ORGANIZER;CN=PMI Germany Chapter e.V.:MAILTO:website@pmi-gc.de
GEO:48;9999.999999
X-APPLE-STRUCTURED-LOCATION;VALUE=URI;X-ADDRESS=Max-von-Laue-Str. 16\, Augs
 burg;X-APPLE-RADIUS=72;X-TITLE=Grill`n Chill Augsburg:48;9999.999999
END:VEVENT
END:VCALENDAR