BEGIN:VCALENDAR
VERSION:2.0
PRODID:Events Booking
BEGIN:VEVENT
UID:69e8dd2412b9a
SUMMARY:Stammtisch Augsburg August 2022
DESCRIPTION:PMI StammtischDieser Stammtisch soll einen Austausch und Diskus
 sion unter Projektleitern ermöglichen.
 Thema: Einsatzgebiete von KI (K
 ünstlicher Intelligenz)
 Zweisprachiges / Bilingual Event (D\, GB)
 Mee
 ting-Format: Persönlich vor Ort im Grill`n Chill
 Event-Tag: Donnerstag\
 , 04.08.2022 (1. Ferienwoche)
 Event-Zeit: 18:00-20:00 Uhr
 Event-Code: 
 C421-A-22-08-04
 PDU-Code: wird den Teilnehmern im Anschluss mitgeteilt

  Kontakt: sonja.behrmann@pmi-gc.de\,
 &nbsp\;
LOCATION:Max-von-Laue-Str. 16\, Augsburg
DTSTART:20220804T160000Z
DTEND:20220804T180000Z
DTSTAMP:20220530T162122Z
ORGANIZER;CN=PMI Germany Chapter e.V.:MAILTO:website@pmi-gc.de
GEO:48;9999.999999
X-APPLE-STRUCTURED-LOCATION;VALUE=URI;X-ADDRESS=Max-von-Laue-Str. 16\, Augs
 burg;X-APPLE-RADIUS=72;X-TITLE=Grill`n Chill Augsburg:48;9999.999999
END:VEVENT
END:VCALENDAR