BEGIN:VCALENDAR
VERSION:2.0
PRODID:Events Booking
BEGIN:VEVENT
UID:69e889d876e34
SUMMARY:Stammtisch Augsburg Dezember 2022
DESCRIPTION:PMI StammtischDieser Stammtisch soll einen Austausch und Diskus
 sion unter Projektleitern ermöglichen.
 Thema:&nbsp\;In dieser Diskussio
 n soll ein Vergleich angestellt werden von Projekt-Abläufen zu Betriebs-A
 bläufen (post Projekt Phase).This discussion shall compare processes in n
 eed to complete projects to processes in need to pursue services (post pro
 ject phase).
 Zweisprachiges / Bilingual Event
 Meeting-Format: On-Site 
 (Grill-n-Chill Augsburg)
 Event-Tag: Donnerstag\, 01.12.2022&nbsp\;
 Eve
 nt-Zeit: 18:00-20:00 Uhr
 Event-Code: C421-A-22-12-01
 PDU-Code: wird de
 n Teilnehmern im Anschluss mitgeteilt
 Kontakt: sonja.behrmann@pmi-gc.de
 
 &nbsp\;
LOCATION:Max-von-Laue-Str. 16\, Augsburg
DTSTART:20221201T170000Z
DTSTAMP:20220530T162122Z
ORGANIZER;CN=PMI Germany Chapter e.V.:MAILTO:website@pmi-gc.de
GEO:48;9999.999999
X-APPLE-STRUCTURED-LOCATION;VALUE=URI;X-ADDRESS=Max-von-Laue-Str. 16\, Augs
 burg;X-APPLE-RADIUS=72;X-TITLE=Grill`n Chill Augsburg:48;9999.999999
END:VEVENT
END:VCALENDAR