BEGIN:VCALENDAR
VERSION:2.0
PRODID:Events Booking
BEGIN:VEVENT
UID:69e8b3f8c2688
SUMMARY:Virtuelle Open Space Veranstaltung (LG Hamburg)
DESCRIPTION:Liebe Projektmanagement Freunde\,
 für diesen Stammtisch lade
 n wir euch virtuell nach Hamburg zu einem \"Open Space\" ein.
 Moment ...
 . was war noch gleich Open Space? Wikipedia.org schreibt \"...Open Space s
 chafft einen stabilen methodischen Rahmen\, in dem viele Menschen selbstor
 ganisiert und selbstverantwortlich ihre Anliegen gemeinschaftlich bearbeit
 en können....\". Und genau das soll das Ziel sein an diesem Abend: Themen
 \, die ihr mitbringt\, in kleineren Gruppen zu diskutieren. Das kann ein P
 roblem sein\, aber auch eine Diskussion oder ein Wissensaustausch zu einem
  Thema. 
LOCATION:virtuell
DTSTART:20221026T163000Z
DTEND:20221026T190000Z
DTSTAMP:20220707T194210Z
ORGANIZER;CN=PMI Germany Chapter e.V.:MAILTO:website@pmi-gc.de
GEO:53.56513;10.007167
X-APPLE-STRUCTURED-LOCATION;VALUE=URI;X-ADDRESS=virtuell;X-APPLE-RADIUS=72;
 X-TITLE=Online\, Local Group Hamburg:53.56513;10.007167
END:VEVENT
END:VCALENDAR