BEGIN:VCALENDAR
VERSION:2.0
PRODID:Events Booking
BEGIN:VEVENT
UID:69e8deb0e6929
SUMMARY:Stammtisch der PMI Local Group Hamburg August 2022
DESCRIPTION:Liebe Projektmanagement Freunde in und um Hamburg\,
 nach eine
 r längeren\, Corona bedingten Pause unserer Projektleiter-Stammtisch Prä
 senzveranstaltungen\,möchten wir Sie nun im August wieder zu einem Projek
 tleiter-Stammtisch hier in Hamburg in Präsenz im HTHC Klubhaus einladen.N
 ach so langer Zeit ohne \"physisches\" Treffen möchten wir bei diesem Eve
 nt den Erfahrungsaustausch und das Netzwerken in den Vordergrund stellen. 
 Die Veranstaltung findet im Freien auf den Außenanlagen des HTHC Clubheim
 s statt.Alle Projektmanagement-Interessierten sind herzlich willkommen!
LOCATION:Barmbeker Straße 106\, Hamburg\, 22303 Hamburg\, Deutschland
DTSTART:20220815T160000Z
DTEND:20220815T180000Z
DTSTAMP:20220707T194210Z
ORGANIZER;CN=PMI Germany Chapter e.V.:MAILTO:website@pmi-gc.de
GEO:53.592139;10.008947
X-APPLE-STRUCTURED-LOCATION;VALUE=URI;X-ADDRESS=Barmbeker Straße 106\, Ham
 burg\, 22303 Hamburg\, Deutschland;X-APPLE-RADIUS=72;X-TITLE=Hamburg\, HTH
 C:53.592139;10.008947
END:VEVENT
END:VCALENDAR