BEGIN:VCALENDAR
VERSION:2.0
PRODID:Events Booking
BEGIN:VEVENT
UID:69e7d888665bd
SUMMARY:Stammtisch Eschborn August 2023
DESCRIPTION:Wir freuen uns auf einen Abend mit Ihnen/Euch.
 Wir diskutiere
 n über das Thema \"Was ist ein gutes Projektmanagement?\" Ist gutes Proje
 ktmanagement einhaltung von Zeit\, Buget und Umfang. Oder auch Kunden\, Te
 ams und die Vision des Erfolges um auf Erfolgskurs zu gehen?
 &nbsp\;
 B
 ringt Eure Ideen oder Fragen mit zu unserer Diskussionsrunde
LOCATION:Mannheimer Straße 1\, Eschborn\, 65760 Hessen\, Deutschland
DTSTART:20230822T160000Z
DTEND:20230822T180000Z
DTSTAMP:20220623T162607Z
ORGANIZER;CN=PMI Germany Chapter e.V.:MAILTO:website@pmi-gc.de
GEO:50.131865;8.567669
X-APPLE-STRUCTURED-LOCATION;VALUE=URI;X-ADDRESS=Mannheimer Straße 1\, Esch
 born\, 65760 Hessen\, Deutschland;X-APPLE-RADIUS=72;X-TITLE=Moxy Eschborn:
 50.131865;8.567669
END:VEVENT
END:VCALENDAR