BEGIN:VCALENDAR
VERSION:2.0
PRODID:Events Booking
BEGIN:VEVENT
UID:69e83361d2e85
SUMMARY:LG Konstanz: hyperstone - PM in der High-Performance Halbleiter-Bra
 nche!
DESCRIPTION:PMI LG Konstanz Stammtisch:&nbsp\; Hyperstone - PM in der High-
 Performance Halbleiter-Branche - Vortrag und Führung!
 Wir setzen unsere
  Serie der Einblicke in die Welt des angewandten Projekt Mangements fort !
  Es ist toll\, dass wir wieder ein Unternehmen aus unseren Reihen besuchen
  können um uns vor Ort über branchenspezifischen PM auszutauschen. Wir t
 reffen uns dafür beim nächsten LG Konstanz Stammtisch bei der Hyperstone
  GmbH in Konstanz. Richard Willems wird unser Gastgeber sein und uns über
 &nbsp\;Herausforderungen des Projektmanagements bei der Entwicklung von Fl
 ash Memory Controllern informieren.&nbsp\;Neben dem Vortrag wird es eine F
 ührung geben\, um eine praktische Vorstellung von den Projekten zu bekomm
 en.
LOCATION:Reichenaustraße 39a\, Konstanz\, 78467 Baden-Württemberg\, Deuts
 chland
DTSTART:20230424T163000Z
DTEND:20230424T190000Z
DTSTAMP:20220930T060153Z
ORGANIZER;CN=PMI Germany Chapter e.V.:MAILTO:website@pmi-gc.de
GEO:47.671749;9.162292
X-APPLE-STRUCTURED-LOCATION;VALUE=URI;X-ADDRESS=Reichenaustraße 39a\, Kons
 tanz\, 78467 Baden-Württemberg\, Deutschland;X-APPLE-RADIUS=72;X-TITLE=Hy
 perstone GmbH:47.671749;9.162292
END:VEVENT
END:VCALENDAR