BEGIN:VCALENDAR
VERSION:2.0
PRODID:Events Booking
BEGIN:VEVENT
UID:69e84a4ff3309
SUMMARY:Stammtisch Mü-Ost: Projektmanagement-Herausforderungen bei KI-Proj
 ekten
DESCRIPTION:Der Stammtisch Mü-Ost startet im Jahr 2023 in einer besonderen
  Lokation und mit kostenloser Verköstigung - es ist toll\, dass wir zu di
 eser Vor-Ort-Veranstaltung bei der Fa. iteratec eingeladen sind- herzliche
 n Dank dafür!
 Thema: Projektmanagement-Herausforderungen bei KI-Projekt
 en (Vortrag und Austausch)
 Ablauf:
 
 Get together mit ausreichend Gel
 egenheit zum Networking bei kostenloser Verpflegung - gesponsert von der F
 a. iteratec
 Vortrag von Stefan Blum
 Austausch und vertiefende Diskussi
 on
 Ausklang und Networking
 
LOCATION:Sankt-Martin-Straße 114\, München\, 81669 Bayern\, Deutschland
DTSTART:20230321T173000Z
DTEND:20230321T193000Z
DTSTAMP:20230127T164114Z
ORGANIZER;CN=PMI Germany Chapter e.V.:MAILTO:website@pmi-gc.de
GEO:48.119897;11.602832
X-APPLE-STRUCTURED-LOCATION;VALUE=URI;X-ADDRESS=Sankt-Martin-Straße 114\, 
 München\, 81669 Bayern\, Deutschland;X-APPLE-RADIUS=72;X-TITLE=München\,
  St.-Martin-Str. 114\, iteratec GmbH:48.119897;11.602832
END:VEVENT
END:VCALENDAR