BEGIN:VCALENDAR
VERSION:2.0
PRODID:Events Booking
BEGIN:VEVENT
UID:69e817a5d0cf5
SUMMARY:Stammtisch Stuttgart - Mai 2023
DESCRIPTION:Diskussion u.a. zu diesen Themenvorschlägen: 
 - aktuelle The
 men aus der Runde- DEI als Erfolgsfaktor- vom Spitzensport lernen- \"Was v
 ertraut scheint\, ängstigt nicht\"Themenspeicher:- Stakeholdermanagement:
  1 von 36 Strategeme- OKR\, Working out Loud im Projektmanagement?- Themen
 schwerpunkt der Initialisierungsphase
LOCATION:Beim Höhenfreibad\, Stuttgart\, 70192 Baden-Württemberg\, Deutsc
 hland
DTSTART:20230512T160000Z
DTEND:20230512T180000Z
DTSTAMP:20230320T210752Z
ORGANIZER;CN=PMI Germany Chapter e.V.:MAILTO:website@pmi-gc.de
GEO:48.80795;9.174242
X-APPLE-STRUCTURED-LOCATION;VALUE=URI;X-ADDRESS=Beim Höhenfreibad\, Stuttg
 art\, 70192 Baden-Württemberg\, Deutschland;X-APPLE-RADIUS=72;X-TITLE=Wei
 nstube Killesberg:48.80795;9.174242
END:VEVENT
END:VCALENDAR