BEGIN:VCALENDAR
VERSION:2.0
PRODID:Events Booking
BEGIN:VEVENT
UID:69e83128c28c8
SUMMARY:Strategy Diamond – How Do Strategic Components Fit Together?
DESCRIPTION:The Strategy Diamond is a framework for analyzing and developin
 g a strategic plan for an organization. By using the Strategy Diamond fram
 ework\, project managers can ensure that their projects are strategic\, we
 ll-planned\, and aligned with the larger goals of the organization\, leadi
 ng to more successful outcomes and greater value for the organization.
DTSTART:20230425T160000Z
DTEND:20230425T163000Z
DTSTAMP:20230220T105622Z
ORGANIZER;CN=PMI Germany Chapter e.V.:MAILTO:website@pmi-gc.de
END:VEVENT
END:VCALENDAR