BEGIN:VCALENDAR
VERSION:2.0
PRODID:Events Booking
BEGIN:VEVENT
UID:69e68db13e570
SUMMARY:Stammtisch Böblingen: AGIL - Eine visuelle Reise
DESCRIPTION:Viertes Meeting\, Start der Serie AGIL - Eine visuelle Reise\, 
 des Böblinger Stammtisches in der Niederlassung von AVL Software and Func
 tions GmbH in Leonberg.
 Die Serie: AGIL - Eine visuelle Reise
 Anforder
 ungshandhabung in agilen vs traditionelle Projektlebenszyklen
 Das Treffe
 n soll die Möglichkeit zum Erfahrungsaustausch in verschiedenen Branchen 
 bieten und zielt darauf ab\, den Unterschied zwischen dem Handhaben von An
 forderungen in agilen und traditionelle Lebenszyklen visuell darzustellen 
 und ein einzigartiges Erlebnis zu erzeugen.&nbsp\;
 PDU(s):&nbsp\; 1 - Wa
 ys of working 0 - Power Skill0 - Business Acumen
 Erhard Lump\, Gründer 
 der lokalen Gruppe freut sich schon auf reges Erscheinen!
LOCATION:Bahnhofstraße\, Leonberg\, 71229 Baden-Württemberg\, Deutschland
DTSTART:20241204T180000Z
DTEND:20241204T200000Z
DTSTAMP:20240201T100555Z
ORGANIZER;CN=PMI Germany Chapter e.V.:MAILTO:website@pmi-gc.de
GEO:48.800549;9.008561
X-APPLE-STRUCTURED-LOCATION;VALUE=URI;X-ADDRESS=Bahnhofstraße\, Leonberg\,
  71229 Baden-Württemberg\, Deutschland;X-APPLE-RADIUS=72;X-TITLE=AVL Soft
 ware and Functions GmbH:48.800549;9.008561
END:VEVENT
END:VCALENDAR