BEGIN:VCALENDAR
VERSION:2.0
PRODID:Events Booking
BEGIN:VEVENT
UID:69e73bb8c267b
SUMMARY:Study Brunch Online Event (in English): Address and Remove Impedime
 nts\, Obstacles\, and Blockers for the Team by Osahon Idehen PMP on 3rd Ju
 n at 11 am CET
DESCRIPTION:Study Brunch Online Event (in English): Address and Remove Impe
 diments\, Obstacles\, and Blockers for the Team by Osahon Idehen PMP on 3r
 d Jun at 11 am CET
 Theme: Domain 1 - People: PMBOK - Address and Remove 
 Impediments\, Obstacles\, and Blockers for the Team
 &nbsp\;
 &nbsp\;
DTSTART:20230603T090000Z
DTEND:20230603T100000Z
DTSTAMP:20230415T110947Z
ORGANIZER;CN=PMI Germany Chapter e.V.:MAILTO:website@pmi-gc.de
END:VEVENT
END:VCALENDAR