BEGIN:VCALENDAR
VERSION:2.0
PRODID:Events Booking
BEGIN:VEVENT
UID:69e808e802830
SUMMARY:Study Brunch Online Event (in English): Evaluate and deliver projec
 t benefits and value by Gregor Spiekermann on 10th June at 11 am CET
DESCRIPTION:Gregor Spiekermann ist ein erfahrener Berater mit ca. 10 Jahren
  Erfahrung in Financial Reporting\, Controlling und IT-Transformation. Sei
 n Ziel ist es\, eine Brücke zwischen technischen und funktionalen Anforde
 rungen zu schlagen.
 Sein Thema bei diesem Study Brunch:&nbsp\;\"Evaluate
  and deliver project benefits and value\"
DTSTART:20230610T090000Z
DTEND:20230610T100000Z
DTSTAMP:20230325T133109Z
ORGANIZER;CN=PMI Germany Chapter e.V.:MAILTO:website@pmi-gc.de
END:VEVENT
END:VCALENDAR