BEGIN:VCALENDAR
VERSION:2.0
PRODID:Events Booking
BEGIN:VEVENT
UID:69e848b0d0c6d
SUMMARY:Study Brunch Online Event(in English): Plan and Manage Scope by Abd
 ulkareem Mujahid on 4th March at 11 am CET
DESCRIPTION:Mujahid Abdulkareem\, PRINCE2\, PMP ist Lead Project Manager be
 i Bosch Sensortec Deutschland mit Schwerpunkt Business Reporting. Seine Ha
 uptaktivitäten drehen sich um die Planung und Bereitstellung von Manageme
 ntberichten und Benutzerschulungen. Er ist PMP-zertifiziert und seit über
  sechs Jahren im Projektmanagement tätig. Er hat seinen Sitz in Berlin.Th
 eme: Plan and Manage Scope
DTSTART:20230303T230000Z
DTEND:20230303T230000Z
DTSTAMP:20230219T190029Z
ORGANIZER;CN=PMI Germany Chapter e.V.:MAILTO:website@pmi-gc.de
END:VEVENT
END:VCALENDAR