BEGIN:VCALENDAR
VERSION:2.0
PRODID:Events Booking
BEGIN:VEVENT
UID:69e7eb8eeb7ac
SUMMARY:CAPM Study Brunch (mit Iselie Iglesias): Projektmanagement Grundlag
 en
DESCRIPTION:Du bist Chapter Mitglied\, hast deinen CAPM-Zertifizierungsvorb
 ereitungskurs hinter dir und sitzt im stillen Kämmerlein und büffelst f
 ür deine Prüfung und hast noch soooo viele Fragen? Wir - das PMI Germany
  Chapter - haben die Antworten\, diesmal gemeinsam mit unserem Sponsor The
  Project Group Informationstechnologie GmbH. Frei nach unserem Anspruch\, 
 Forum und Plattform für Projektmanagement-Begeisterte zur Verfügung zu s
 tellen\, bieten wir auch diesmal wieder eine Videokonferenz zu Themen zur 
 CAPM Prüfung an\, in denen deine Fragen vermittelt durch eine erfahrene M
 oderatorin - Iselie Iglesias - beantwortet werden.&nbsp\;
DTSTART:20230715T080000Z
DTEND:20230715T103000Z
DTSTAMP:20230220T105622Z
ORGANIZER;CN=PMI Germany Chapter e.V.:MAILTO:website@pmi-gc.de
END:VEVENT
END:VCALENDAR